BEGIN:VCALENDAR
VERSION:2.0
PRODID:-//eventon.com NONSGML v1.0//EN
CALSCALE:GREGORIAN
METHOD:PUBLISH
BEGIN:VEVENT
UID:69e8a1111aff9
DTSTAMP:20260422T102105
DTSTART:20240828T210000Z
DTEND:20240930T210000Z
TZID:America/Los_Angeles
LOCATION:
SUMMARY:Event Sample 1 Title 2
DESCRIPTION: Event Sample 1 Description\nhttps://overthere.in/blog/events/event-sample-1-title/
URL:https://overthere.in/blog/events/event-sample-1-title/
END:VEVENT
END:VCALENDAR